BEGIN:VCALENDAR
VERSION:2.0
PRODID:-//81.88.34.80//NONSGML kigkonsult.se iCalcreator 2.20//
CALSCALE:GREGORIAN
METHOD:PUBLISH
X-WR-TIMEZONE:Europe/Berlin
BEGIN:VEVENT
UID:event16@4 Way Street Project
DTSTAMP:20260423T104951Z
CATEGORIES:öffentlich
DESCRIPTION:Josef's Keller (Lohr)\nCategory: öffentlich\nLink: https://www.
 4wsp.de/index.php?option=com_jem&view=event&id=16:josef-s-keller-lohr\n
DTSTART;TZID=Europe/Berlin:20260314T193000
DTEND;TZID=Europe/Berlin:20260314T193000
LOCATION:Weinhaus Mehling\,Hauptstraße 30\,97816 Lohr
SUMMARY:Josef's Keller (Lohr)
URL:https://www.4wsp.de/index.php?option=com_jem&view=event&id=16:josef-s-k
 eller-lohr
END:VEVENT
END:VCALENDAR