BEGIN:VCALENDAR
VERSION:2.0
PRODID:-//81.88.34.80//NONSGML kigkonsult.se iCalcreator 2.20//
CALSCALE:GREGORIAN
METHOD:PUBLISH
X-WR-TIMEZONE:Europe/Berlin
BEGIN:VEVENT
UID:event17@4 Way Street Project
DTSTAMP:20260423T102730Z
CATEGORIES:öffentlich
DESCRIPTION:Baddy\nCategory: öffentlich\nLink: https://www.4wsp.de/index.ph
 p?option=com_jem&view=event&id=17:baddy\n
DTSTART;TZID=Europe/Berlin:20260417T190000
DTEND;TZID=Europe/Berlin:20260417T190000
LOCATION:Baddy\,Rathausstraße 11\,63877 Sailauf
SUMMARY:Baddy
URL:https://www.4wsp.de/index.php?option=com_jem&view=event&id=17:baddy
END:VEVENT
END:VCALENDAR