BEGIN:VCALENDAR
VERSION:2.0
PRODID:-//81.88.34.80//NONSGML kigkonsult.se iCalcreator 2.20//
CALSCALE:GREGORIAN
METHOD:PUBLISH
X-WR-TIMEZONE:Europe/Berlin
BEGIN:VEVENT
UID:event18@4 Way Street Project
DTSTAMP:20260421T154553Z
CATEGORIES:öffentlich
DESCRIPTION:Live in der Kochsmühle\nCategory: öffentlich\nLink: https://www
 .4wsp.de/index.php?option=com_jem&view=event&id=18:live-in-der-kochsmuehle
 \n
DTSTART;VALUE=DATE:20261031
DTEND;VALUE=DATE:20261101
LOCATION:Kochsmühle\,Untere Wallstraße 10\,63785 Obernburg am Main
SUMMARY:Live in der Kochsmühle
URL:https://www.4wsp.de/index.php?option=com_jem&view=event&id=18:live-in-d
 er-kochsmuehle
END:VEVENT
END:VCALENDAR