BEGIN:VCALENDAR
VERSION:2.0
PRODID:-//81.88.34.80//NONSGML kigkonsult.se iCalcreator 2.20//
CALSCALE:GREGORIAN
METHOD:PUBLISH
X-WR-TIMEZONE:Europe/Berlin
BEGIN:VEVENT
UID:event21@4 Way Street Project
DTSTAMP:20260421T154609Z
CATEGORIES:öffentlich
DESCRIPTION:Fête de la Musique \nCategory: öffentlich\nLink: https://www.4w
 sp.de/index.php?option=com_jem&view=event&id=21:fete-de-la-musique\n
DTSTART;VALUE=DATE:20260621
DTEND;VALUE=DATE:20260622
LOCATION:Maingauhalle\,Ludwigstraße 25\,63801 Kleinostheim
SUMMARY:Fête de la Musique 
URL:https://www.4wsp.de/index.php?option=com_jem&view=event&id=21:fete-de-l
 a-musique
END:VEVENT
END:VCALENDAR