BEGIN:VCALENDAR
VERSION:2.0
PRODID:-//81.88.34.80//NONSGML kigkonsult.se iCalcreator 2.20//
CALSCALE:GREGORIAN
METHOD:PUBLISH
X-WR-TIMEZONE:Europe/Berlin
BEGIN:VEVENT
UID:event22@4 Way Street Project
DTSTAMP:20260421T154317Z
CATEGORIES:öffentlich
DESCRIPTION:The Pub (ehemals miniBar)\nCategory: öffentlich\nLink: https://
 www.4wsp.de/index.php?option=com_jem&view=event&id=22:minibar\n
DTSTART;TZID=Europe/Berlin:20260923T193000
DTEND;TZID=Europe/Berlin:20260923T193000
LOCATION:The Pub (ehemals miniBar)\,Agathaplatz 1\,63739 Aschaffenburg
SUMMARY:The Pub (ehemals miniBar)
URL:https://www.4wsp.de/index.php?option=com_jem&view=event&id=22:minibar
END:VEVENT
END:VCALENDAR