BEGIN:VCALENDAR
VERSION:2.0
PRODID:-//81.88.34.80//NONSGML kigkonsult.se iCalcreator 2.20//
CALSCALE:GREGORIAN
METHOD:PUBLISH
X-WR-TIMEZONE:Europe/Berlin
BEGIN:VEVENT
UID:event23@4 Way Street Project
DTSTAMP:20260421T154423Z
CATEGORIES:öffentlich
DESCRIPTION:Live in der Traube\nCategory: öffentlich\nLink: https://www.4ws
 p.de/index.php?option=com_jem&view=event&id=23:live-in-der-traube\n
DTSTART;VALUE=DATE:20260509
DTEND;VALUE=DATE:20260510
LOCATION:Zur Traube\,Lohrer Str. 37\,97833  Frammersbach
SUMMARY:Live in der Traube
URL:https://www.4wsp.de/index.php?option=com_jem&view=event&id=23:live-in-d
 er-traube
END:VEVENT
END:VCALENDAR