BEGIN:VCALENDAR
VERSION:2.0
PRODID:-//81.88.34.80//NONSGML kigkonsult.se iCalcreator 2.20//
CALSCALE:GREGORIAN
METHOD:PUBLISH
X-WR-TIMEZONE:Europe/Berlin
BEGIN:VEVENT
UID:event24@4 Way Street Project
DTSTAMP:20260421T154553Z
CATEGORIES:öffentlich
DESCRIPTION:Hula Weinbar\nCategory: öffentlich\nLink: https://www.4wsp.de/i
 ndex.php?option=com_jem&view=event&id=24:hula-weinbar-marktheidenfeld\n
DTSTART;TZID=Europe/Berlin:20260704T183000
DTEND;TZID=Europe/Berlin:20260704T183000
LOCATION:Hula Weinbar (im Franck-Haus)\,Untertorstraße 6\,97828 Marktheiden
 feld
SUMMARY:Hula Weinbar
URL:https://www.4wsp.de/index.php?option=com_jem&view=event&id=24:hula-wein
 bar-marktheidenfeld
END:VEVENT
END:VCALENDAR