BEGIN:VCALENDAR
VERSION:2.0
PRODID:-//81.88.34.80//NONSGML kigkonsult.se iCalcreator 2.20//
CALSCALE:GREGORIAN
METHOD:PUBLISH
X-WR-TIMEZONE:Europe/Berlin
BEGIN:VEVENT
UID:event25@4 Way Street Project
DTSTAMP:20260421T154753Z
CATEGORIES:öffentlich
DESCRIPTION:Maifest des DGB Aschaffenburg\nCategory: öffentlich\nLink: http
 s://www.4wsp.de/index.php?option=com_jem&view=event&id=25:maifest-des-dgb-
 aschaffenburg\n
DTSTART;TZID=Europe/Berlin:20260501T120000
DTEND;TZID=Europe/Berlin:20260501T120000
LOCATION:Karlsplatz\, Aschaffenburg\,Karlsplatz\,63739 Aschaffenburg
SUMMARY:Maifest des DGB Aschaffenburg
URL:https://www.4wsp.de/index.php?option=com_jem&view=event&id=25:maifest-d
 es-dgb-aschaffenburg
END:VEVENT
END:VCALENDAR